BEGIN:VCALENDAR
VERSION:2.0
PRODID:-//TSC-Tümmler e.V. Pinneberg - ECPv6.15.18//NONSGML v1.0//EN
CALSCALE:GREGORIAN
METHOD:PUBLISH
X-WR-CALNAME:TSC-Tümmler e.V. Pinneberg
X-ORIGINAL-URL:https://www.tsc-tuemmler.de
X-WR-CALDESC:Veranstaltungen für TSC-Tümmler e.V. Pinneberg
REFRESH-INTERVAL;VALUE=DURATION:PT1H
X-Robots-Tag:noindex
X-PUBLISHED-TTL:PT1H
BEGIN:VTIMEZONE
TZID:Europe/Berlin
BEGIN:DAYLIGHT
TZOFFSETFROM:+0100
TZOFFSETTO:+0200
TZNAME:CEST
DTSTART:20240331T010000
END:DAYLIGHT
BEGIN:STANDARD
TZOFFSETFROM:+0200
TZOFFSETTO:+0100
TZNAME:CET
DTSTART:20241027T010000
END:STANDARD
BEGIN:DAYLIGHT
TZOFFSETFROM:+0100
TZOFFSETTO:+0200
TZNAME:CEST
DTSTART:20250330T010000
END:DAYLIGHT
BEGIN:STANDARD
TZOFFSETFROM:+0200
TZOFFSETTO:+0100
TZNAME:CET
DTSTART:20251026T010000
END:STANDARD
BEGIN:DAYLIGHT
TZOFFSETFROM:+0100
TZOFFSETTO:+0200
TZNAME:CEST
DTSTART:20260329T010000
END:DAYLIGHT
BEGIN:STANDARD
TZOFFSETFROM:+0200
TZOFFSETTO:+0100
TZNAME:CET
DTSTART:20261025T010000
END:STANDARD
END:VTIMEZONE
BEGIN:VEVENT
DTSTART;TZID=Europe/Berlin:20250905T160000
DTEND;TZID=Europe/Berlin:20250907T200000
DTSTAMP:20260419T165346
CREATED:20250903T205633Z
LAST-MODIFIED:20250904T072445Z
UID:35141-1757088000-1757275200@www.tsc-tuemmler.de
SUMMARY:Tauchcontainer auf dem Stadtfest 150 Jahre Pinneberg
DESCRIPTION:Tauchen\, ohne ans Meer zu fahren? Kein Problem!\nZum 150-jährigen Jubiläum der Stadt Pinneberg lädt der TSC Tümmler Pinneberg e.V. alle Interessierten herzlich zu einem ganz besonderen Erlebnis ein: Schnuppertauchen im mobilen Tauchcontainer – kostenlos und mit kompletter Ausrüstung! \nWas euch erwartet: \n🌊 Schnuppertauchen im ContainerErlebe hautnah\, wie es sich anfühlt\, unter Wasser zu atmen – ideal für Kinder\, Jugendliche und Erwachsene! Unsere erfahrenen Tauchlehrer begleiten dich sicher durch dein erstes Tauchabenteuer. \n🤿 Alles rund ums TauchenErfahre mehr über den Tauchsport\, Ausbildungsmöglichkeiten\, Ausrüstung\, Tauchreisen und das Vereinsleben beim TSC Tümmler. \n👨‍🏫 Erfahrene Taucher & Tauchlehrer vor OrtOb du einfach neugierig bist oder bereits Tauchschein-Pläne hast – wir beantworten alle Fragen und beraten dich gern. \n🎁 Tolles GewinnspielMach mit bei unserem Gewinnspiel direkt am Stand – es warten spannende Preise rund ums Tauchen auf dich! \nKommt vorbei\, schaut rein und taucht mit uns ab – beim großen Stadtfest auf dem Lindenplatz Pinneberg!Wir freuen uns auf euch! \n 
URL:https://www.tsc-tuemmler.de/event/tauchcontainer-auf-dem-stadtfest-150-jahre-pinneberg/
LOCATION:Lindenplatz Pinneberg\, Lindenplatz\, Pinneberg\, Schleswig-Holstein\, 25421\, Germany
ATTACH;FMTTYPE=image/jpeg:https://www.tsc-tuemmler.de/wp-content/uploads/2025/09/TSC_Container.jpeg
ORGANIZER;CN="TSC T%C3%BCmmler":MAILTO:info@tsc-tuemmler.de
END:VEVENT
END:VCALENDAR