BEGIN:VCALENDAR
VERSION:2.0
PRODID:-//TSC-Tümmler e.V. Pinneberg - ECPv6.15.18//NONSGML v1.0//EN
CALSCALE:GREGORIAN
METHOD:PUBLISH
X-WR-CALNAME:TSC-Tümmler e.V. Pinneberg
X-ORIGINAL-URL:https://www.tsc-tuemmler.de
X-WR-CALDESC:Veranstaltungen für TSC-Tümmler e.V. Pinneberg
REFRESH-INTERVAL;VALUE=DURATION:PT1H
X-Robots-Tag:noindex
X-PUBLISHED-TTL:PT1H
BEGIN:VTIMEZONE
TZID:Europe/Berlin
BEGIN:DAYLIGHT
TZOFFSETFROM:+0100
TZOFFSETTO:+0200
TZNAME:CEST
DTSTART:20250330T010000
END:DAYLIGHT
BEGIN:STANDARD
TZOFFSETFROM:+0200
TZOFFSETTO:+0100
TZNAME:CET
DTSTART:20251026T010000
END:STANDARD
BEGIN:DAYLIGHT
TZOFFSETFROM:+0100
TZOFFSETTO:+0200
TZNAME:CEST
DTSTART:20260329T010000
END:DAYLIGHT
BEGIN:STANDARD
TZOFFSETFROM:+0200
TZOFFSETTO:+0100
TZNAME:CET
DTSTART:20261025T010000
END:STANDARD
BEGIN:DAYLIGHT
TZOFFSETFROM:+0100
TZOFFSETTO:+0200
TZNAME:CEST
DTSTART:20270328T010000
END:DAYLIGHT
BEGIN:STANDARD
TZOFFSETFROM:+0200
TZOFFSETTO:+0100
TZNAME:CET
DTSTART:20271031T010000
END:STANDARD
END:VTIMEZONE
BEGIN:VEVENT
DTSTART;TZID=Europe/Berlin:20260814T160000
DTEND;TZID=Europe/Berlin:20260816T190000
DTSTAMP:20260421T181707
CREATED:20260123T110811Z
LAST-MODIFIED:20260304T101452Z
UID:35247-1786723200-1786906800@www.tsc-tuemmler.de
SUMMARY:Jugendwochenende Hemmoor
DESCRIPTION:
URL:https://www.tsc-tuemmler.de/event/jugendwochenende-hemmoor/
LOCATION:Kreidesee Hemmoor\, Cuxhavener Straße 1\, Hemmoor\, Niedersachsen\, 21745\, Germany
END:VEVENT
END:VCALENDAR