BEGIN:VCALENDAR
VERSION:2.0
PRODID:-//TSC-Tümmler e.V. Pinneberg - ECPv6.15.18//NONSGML v1.0//EN
CALSCALE:GREGORIAN
METHOD:PUBLISH
X-ORIGINAL-URL:https://www.tsc-tuemmler.de
X-WR-CALDESC:Veranstaltungen für TSC-Tümmler e.V. Pinneberg
REFRESH-INTERVAL;VALUE=DURATION:PT1H
X-Robots-Tag:noindex
X-PUBLISHED-TTL:PT1H
BEGIN:VTIMEZONE
TZID:Europe/Berlin
BEGIN:DAYLIGHT
TZOFFSETFROM:+0100
TZOFFSETTO:+0200
TZNAME:CEST
DTSTART:20250330T010000
END:DAYLIGHT
BEGIN:STANDARD
TZOFFSETFROM:+0200
TZOFFSETTO:+0100
TZNAME:CET
DTSTART:20251026T010000
END:STANDARD
BEGIN:DAYLIGHT
TZOFFSETFROM:+0100
TZOFFSETTO:+0200
TZNAME:CEST
DTSTART:20260329T010000
END:DAYLIGHT
BEGIN:STANDARD
TZOFFSETFROM:+0200
TZOFFSETTO:+0100
TZNAME:CET
DTSTART:20261025T010000
END:STANDARD
BEGIN:DAYLIGHT
TZOFFSETFROM:+0100
TZOFFSETTO:+0200
TZNAME:CEST
DTSTART:20270328T010000
END:DAYLIGHT
BEGIN:STANDARD
TZOFFSETFROM:+0200
TZOFFSETTO:+0100
TZNAME:CET
DTSTART:20271031T010000
END:STANDARD
END:VTIMEZONE
BEGIN:VEVENT
DTSTART;TZID=Europe/Berlin:20260828T160000
DTEND;TZID=Europe/Berlin:20260830T190000
DTSTAMP:20260421T222935
CREATED:20260123T105833Z
LAST-MODIFIED:20260304T101456Z
UID:35240-1787932800-1788116400@www.tsc-tuemmler.de
SUMMARY:Special Event
DESCRIPTION:Aktuell erarbeiten wir noch ein kleines aber sehr interessantes Special Event für Ende August.\nMehr wird folgende\, sobald es in trockenen Tüchern ist.Seid gespannt.
URL:https://www.tsc-tuemmler.de/event/special-event/
LOCATION:Plöner See\, Bosau\, Schleswig-Holstein\, 23715
END:VEVENT
END:VCALENDAR