BEGIN:VCALENDAR
VERSION:2.0
PRODID:-//TSC-Tümmler e.V. Pinneberg - ECPv6.15.18//NONSGML v1.0//EN
CALSCALE:GREGORIAN
METHOD:PUBLISH
X-ORIGINAL-URL:https://www.tsc-tuemmler.de
X-WR-CALDESC:Veranstaltungen für TSC-Tümmler e.V. Pinneberg
REFRESH-INTERVAL;VALUE=DURATION:PT1H
X-Robots-Tag:noindex
X-PUBLISHED-TTL:PT1H
BEGIN:VTIMEZONE
TZID:Europe/Berlin
BEGIN:DAYLIGHT
TZOFFSETFROM:+0100
TZOFFSETTO:+0200
TZNAME:CEST
DTSTART:20240331T010000
END:DAYLIGHT
BEGIN:STANDARD
TZOFFSETFROM:+0200
TZOFFSETTO:+0100
TZNAME:CET
DTSTART:20241027T010000
END:STANDARD
BEGIN:DAYLIGHT
TZOFFSETFROM:+0100
TZOFFSETTO:+0200
TZNAME:CEST
DTSTART:20250330T010000
END:DAYLIGHT
BEGIN:STANDARD
TZOFFSETFROM:+0200
TZOFFSETTO:+0100
TZNAME:CET
DTSTART:20251026T010000
END:STANDARD
BEGIN:DAYLIGHT
TZOFFSETFROM:+0100
TZOFFSETTO:+0200
TZNAME:CEST
DTSTART:20260329T010000
END:DAYLIGHT
BEGIN:STANDARD
TZOFFSETFROM:+0200
TZOFFSETTO:+0100
TZNAME:CET
DTSTART:20261025T010000
END:STANDARD
END:VTIMEZONE
BEGIN:VEVENT
DTSTART;TZID=Europe/Berlin:20250524T090000
DTEND;TZID=Europe/Berlin:20250524T210000
DTSTAMP:20260419T211949
CREATED:20250328T143132Z
LAST-MODIFIED:20250328T143132Z
UID:35128-1748077200-1748120400@www.tsc-tuemmler.de
SUMMARY:Tauchausfahrt Surendorf
DESCRIPTION:Liebe Vereinsmitglieder\, \nwir laden euch herzlich zu unserer 1. Tauchausfahrt ein! Dieses Mal geht es an die Ostsee nach Surendorf. \n📅 Datum: Samstag\, 24.05.2025\n📍 Treffpunkt: 09:00 – 09:15 Uhr vor Ort (Parkplatz Surendorf Strand)\n⌛ Ende: Open End (abends gemütlicher Ausklang) \n🌊 Tauchgänge & Ablauf\nWir planen 2 bis max. 3 Tauchgänge über den Tag verteilt. Zwischen den Tauchgängen und am Abend wird gegrillt.\nBitte bringt euer Grillgut selbst mit! \n🥤 Getränke (Bier\, Wasser und Softdrinks) werden von den Organisatoren für einen kleinen Betrag bereitgestellt. Alle Einnahmen fließen zurück in den Verein. \n🏕 Optionale Übernachtung\nWer bereits Freitag anreisen oder erst Sonntag abreisen möchte\, kann dies in Eigenregie organisieren. (Camping- und Ferienpark Surendorf: Camping- und Ferienpark Surendorf – Schwedeneck Touristik) \n💨Luft\nBitte füllt Eure Flaschen und bringt diese mit. Vor Ort planen wir nicht zu füllen. Wer noch eine Flasche braucht\, kann sich hier bitte direkt an unsere Gerätewarte wenden. \n💬 Anmeldung & Fragen\nBitte meldet euch bis spätestens 11.05.2025 via E-Mail unter Veranstaltung@tsc-tuemmler.de an\, damit wir besser planen können. \nWir freuen uns auf einen großartigen Tauchtag mit euch! \nEuer Orga-Team 🤿🌊\nOliver & Felix \nPS: Einen kleinen Eindruck vom Tauchen in Surendorf könnt Ihr hier entnehmen\, viel Spaß. \nTauchen in Surendorf 2024 – YouTube
URL:https://www.tsc-tuemmler.de/event/tauchausfahrt-surendorf/
LOCATION:Surendorf\, Zum Kurstrand\, Schwedeneck\, Schleswig-Holstein\, 24229\, Germany
ATTACH;FMTTYPE=image/jpeg:https://www.tsc-tuemmler.de/wp-content/uploads/2025/03/Schwedeneck.jpg
END:VEVENT
END:VCALENDAR