BEGIN:VCALENDAR
VERSION:2.0
PRODID:-//TSC-Tümmler e.V. Pinneberg - ECPv6.15.18//NONSGML v1.0//EN
CALSCALE:GREGORIAN
METHOD:PUBLISH
X-WR-CALNAME:TSC-Tümmler e.V. Pinneberg
X-ORIGINAL-URL:https://www.tsc-tuemmler.de
X-WR-CALDESC:Veranstaltungen für TSC-Tümmler e.V. Pinneberg
REFRESH-INTERVAL;VALUE=DURATION:PT1H
X-Robots-Tag:noindex
X-PUBLISHED-TTL:PT1H
BEGIN:VTIMEZONE
TZID:Europe/Berlin
BEGIN:DAYLIGHT
TZOFFSETFROM:+0100
TZOFFSETTO:+0200
TZNAME:CEST
DTSTART:20240331T010000
END:DAYLIGHT
BEGIN:STANDARD
TZOFFSETFROM:+0200
TZOFFSETTO:+0100
TZNAME:CET
DTSTART:20241027T010000
END:STANDARD
BEGIN:DAYLIGHT
TZOFFSETFROM:+0100
TZOFFSETTO:+0200
TZNAME:CEST
DTSTART:20250330T010000
END:DAYLIGHT
BEGIN:STANDARD
TZOFFSETFROM:+0200
TZOFFSETTO:+0100
TZNAME:CET
DTSTART:20251026T010000
END:STANDARD
BEGIN:DAYLIGHT
TZOFFSETFROM:+0100
TZOFFSETTO:+0200
TZNAME:CEST
DTSTART:20260329T010000
END:DAYLIGHT
BEGIN:STANDARD
TZOFFSETFROM:+0200
TZOFFSETTO:+0100
TZNAME:CET
DTSTART:20261025T010000
END:STANDARD
END:VTIMEZONE
BEGIN:VEVENT
DTSTART;TZID=Europe/Berlin:20250712T130000
DTEND;TZID=Europe/Berlin:20250712T190000
DTSTAMP:20260419T182433
CREATED:20250327T220423Z
LAST-MODIFIED:20250327T220423Z
UID:35105-1752325200-1752346800@www.tsc-tuemmler.de
SUMMARY:Sommerfest 2025
DESCRIPTION:Einladung zum Sommerfest! 🌞🎉 \nWie jedes Jahr laden wir euch herzlich zu unserem traditionellen Sommerfest am DLRG-Heim in Pinneberg ein! Freut euch auf einen geselligen Tag mit guter Stimmung\, netten Gesprächen und natürlich bestem Wetter.\nFür das leibliche Wohl ist wie immer gesorgt – es wird leckere Speisen und erfrischende Getränke geben. Bringt eure Familie\, Freunde und gute Laune mit! \nWir freuen uns auf zahlreiches Erscheinen und auf ein tolles Fest mit euch. Seid dabei! \n📍 Ort: DLRG-Heim\, Pinneberg📅 Datum: 12.07.2025⏰ Uhrzeit: Folgt! \nBis bald! 🚤☀️\nEuer Vorstand
URL:https://www.tsc-tuemmler.de/event/sommerfest-2025/
LOCATION:DRLG Pinneberg\, Am Hafen 77\, Pinneberg\, Schleswig-Holstein\, 25421\, Germany
END:VEVENT
END:VCALENDAR